BEGIN:VCALENDAR
VERSION:2.0
PRODID:-//Big Table - ECPv6.15.20//NONSGML v1.0//EN
CALSCALE:GREGORIAN
METHOD:PUBLISH
X-WR-CALNAME:Big Table
X-ORIGINAL-URL:https://bigtable.org
X-WR-CALDESC:Events for Big Table
REFRESH-INTERVAL;VALUE=DURATION:PT1H
X-Robots-Tag:noindex
X-PUBLISHED-TTL:PT1H
BEGIN:VTIMEZONE
TZID:America/Los_Angeles
BEGIN:DAYLIGHT
TZOFFSETFROM:-0800
TZOFFSETTO:-0700
TZNAME:PDT
DTSTART:20230312T100000
END:DAYLIGHT
BEGIN:STANDARD
TZOFFSETFROM:-0700
TZOFFSETTO:-0800
TZNAME:PST
DTSTART:20231105T090000
END:STANDARD
BEGIN:DAYLIGHT
TZOFFSETFROM:-0800
TZOFFSETTO:-0700
TZNAME:PDT
DTSTART:20240310T100000
END:DAYLIGHT
BEGIN:STANDARD
TZOFFSETFROM:-0700
TZOFFSETTO:-0800
TZNAME:PST
DTSTART:20241103T090000
END:STANDARD
BEGIN:DAYLIGHT
TZOFFSETFROM:-0800
TZOFFSETTO:-0700
TZNAME:PDT
DTSTART:20250309T100000
END:DAYLIGHT
BEGIN:STANDARD
TZOFFSETFROM:-0700
TZOFFSETTO:-0800
TZNAME:PST
DTSTART:20251102T090000
END:STANDARD
BEGIN:DAYLIGHT
TZOFFSETFROM:-0800
TZOFFSETTO:-0700
TZNAME:PDT
DTSTART:20260308T100000
END:DAYLIGHT
BEGIN:STANDARD
TZOFFSETFROM:-0700
TZOFFSETTO:-0800
TZNAME:PST
DTSTART:20261101T090000
END:STANDARD
END:VTIMEZONE
BEGIN:VEVENT
DTSTART;TZID=America/Los_Angeles:20250224T180000
DTEND;TZID=America/Los_Angeles:20250224T220000
DTSTAMP:20260425T041310
CREATED:20250113T212643Z
LAST-MODIFIED:20251014T203714Z
UID:5920-1740420000-1740434400@bigtable.org
SUMMARY:Table 54 with Big Table
DESCRIPTION:Nashville's restaurants turn up the volume every year for one week in February\, offering seven days of prix fixe menus for brunch\, lunch and/or dinner to highlight Music City’s all-encompassing food and beverage scene. Restaurant Week reservations\, menus\, and discount offerings will be available in mid-February. \nCare for restaurant workers in crisis by rounding up during Dine Nashville Restaurant Week for Big Table and Giving Kitchen. \n\n	\n\n\n	\n		\n			\n							LEARN MORE
URL:https://bigtable.org/event/table-54-with-big-table/
LOCATION:The Bridge Building\, 2 Victory Avenue #100\, Nashville\, TN\, 37213\, United States
CATEGORIES:Nashville
END:VEVENT
BEGIN:VEVENT
DTSTART;TZID=America/Los_Angeles:20241122T190000
DTEND;TZID=America/Los_Angeles:20241122T210000
DTSTAMP:20260425T041310
CREATED:20241105T162104Z
LAST-MODIFIED:20241105T162515Z
UID:5667-1732302000-1732309200@bigtable.org
SUMMARY:HOUSE OF BRUNCH ANNUAL WINE GALA
DESCRIPTION:Nashville's restaurants turn up the volume every year for one week in February\, offering seven days of prix fixe menus for brunch\, lunch and/or dinner to highlight Music City’s all-encompassing food and beverage scene. Restaurant Week reservations\, menus\, and discount offerings will be available in mid-February. \nCare for restaurant workers in crisis by rounding up during Dine Nashville Restaurant Week for Big Table and Giving Kitchen. \n\n	\n\n\n	\n		\n			\n							LEARN MORE
URL:https://bigtable.org/event/house-of-brunch-sparking-wine-gala-copy/
LOCATION:House of Brunch\, 818 W Riverside Ave\, Spokane\, WA\, 99201\, United States
CATEGORIES:Spokane
END:VEVENT
BEGIN:VEVENT
DTSTART;VALUE=DATE:20241111
DTEND;VALUE=DATE:20241220
DTSTAMP:20260425T041310
CREATED:20241111T224839Z
LAST-MODIFIED:20241205T174606Z
UID:5695-1731283200-1734652799@bigtable.org
SUMMARY:Chaps Gingerbread House Benefit
DESCRIPTION:Nashville's restaurants turn up the volume every year for one week in February\, offering seven days of prix fixe menus for brunch\, lunch and/or dinner to highlight Music City’s all-encompassing food and beverage scene. Restaurant Week reservations\, menus\, and discount offerings will be available in mid-February. \nCare for restaurant workers in crisis by rounding up during Dine Nashville Restaurant Week for Big Table and Giving Kitchen. \n\n	\n\n\n	\n		\n			\n							LEARN MORE
URL:https://bigtable.org/event/chaps-gingerbread-house-benefit/
CATEGORIES:Spokane
END:VEVENT
BEGIN:VEVENT
DTSTART;VALUE=DATE:20240226
DTEND;VALUE=DATE:20240304
DTSTAMP:20260425T041310
CREATED:20240126T000150Z
LAST-MODIFIED:20250416T175304Z
UID:4554-1708905600-1709510399@bigtable.org
SUMMARY:Dine Nashville
DESCRIPTION:Nashville's restaurants turn up the volume every year for one week in February\, offering seven days of prix fixe menus for brunch\, lunch and/or dinner to highlight Music City’s all-encompassing food and beverage scene. Restaurant Week reservations\, menus\, and discount offerings will be available in mid-February. \nCare for restaurant workers in crisis by rounding up during Dine Nashville Restaurant Week for Big Table and Giving Kitchen. \n\n	\n\n\n	\n		\n			\n							LEARN MORE
URL:https://bigtable.org/event/dine-nashville/
CATEGORIES:Nashville
END:VEVENT
BEGIN:VEVENT
DTSTART;VALUE=DATE:20240222
DTEND;VALUE=DATE:20240303
DTSTAMP:20260425T041310
CREATED:20240125T235037Z
LAST-MODIFIED:20250416T175338Z
UID:4544-1708560000-1709423999@bigtable.org
SUMMARY:Inlander Restaurant Week
DESCRIPTION:Nashville's restaurants turn up the volume every year for one week in February\, offering seven days of prix fixe menus for brunch\, lunch and/or dinner to highlight Music City’s all-encompassing food and beverage scene. Restaurant Week reservations\, menus\, and discount offerings will be available in mid-February. \nCare for restaurant workers in crisis by rounding up during Dine Nashville Restaurant Week for Big Table and Giving Kitchen. \n\n	\n\n\n	\n		\n			\n							LEARN MORE
URL:https://bigtable.org/event/inlander-restaurant-week/
CATEGORIES:Spokane
ORGANIZER;CN="Inlander":MAILTO:irw@inlander.com
END:VEVENT
END:VCALENDAR