BEGIN:VCALENDAR
VERSION:2.0
PRODID:-//Big Table - ECPv6.15.20//NONSGML v1.0//EN
CALSCALE:GREGORIAN
METHOD:PUBLISH
X-ORIGINAL-URL:https://bigtable.org
X-WR-CALDESC:Events for Big Table
REFRESH-INTERVAL;VALUE=DURATION:PT1H
X-Robots-Tag:noindex
X-PUBLISHED-TTL:PT1H
BEGIN:VTIMEZONE
TZID:America/Los_Angeles
BEGIN:DAYLIGHT
TZOFFSETFROM:-0800
TZOFFSETTO:-0700
TZNAME:PDT
DTSTART:20240310T100000
END:DAYLIGHT
BEGIN:STANDARD
TZOFFSETFROM:-0700
TZOFFSETTO:-0800
TZNAME:PST
DTSTART:20241103T090000
END:STANDARD
BEGIN:DAYLIGHT
TZOFFSETFROM:-0800
TZOFFSETTO:-0700
TZNAME:PDT
DTSTART:20250309T100000
END:DAYLIGHT
BEGIN:STANDARD
TZOFFSETFROM:-0700
TZOFFSETTO:-0800
TZNAME:PST
DTSTART:20251102T090000
END:STANDARD
BEGIN:DAYLIGHT
TZOFFSETFROM:-0800
TZOFFSETTO:-0700
TZNAME:PDT
DTSTART:20260308T100000
END:DAYLIGHT
BEGIN:STANDARD
TZOFFSETFROM:-0700
TZOFFSETTO:-0800
TZNAME:PST
DTSTART:20261101T090000
END:STANDARD
BEGIN:DAYLIGHT
TZOFFSETFROM:-0800
TZOFFSETTO:-0700
TZNAME:PDT
DTSTART:20270314T100000
END:DAYLIGHT
BEGIN:STANDARD
TZOFFSETFROM:-0700
TZOFFSETTO:-0800
TZNAME:PST
DTSTART:20271107T090000
END:STANDARD
END:VTIMEZONE
BEGIN:VEVENT
DTSTART;TZID=America/Los_Angeles:20250918T170000
DTEND;TZID=America/Los_Angeles:20250918T200000
DTSTAMP:20260425T041235
CREATED:20250603T175800Z
LAST-MODIFIED:20250918T173907Z
UID:16627-1758214800-1758225600@bigtable.org
SUMMARY:Eats Around the World at Sea
DESCRIPTION:Nashville's restaurants turn up the volume every year for one week in February\, offering seven days of prix fixe menus for brunch\, lunch and/or dinner to highlight Music City’s all-encompassing food and beverage scene. Restaurant Week reservations\, menus\, and discount offerings will be available in mid-February. \nCare for restaurant workers in crisis by rounding up during Dine Nashville Restaurant Week for Big Table and Giving Kitchen. \n\n	\n\n\n	\n		\n			\n							LEARN MORE
URL:https://bigtable.org/event/eats-around-the-world-at-sea/
LOCATION:The Admiral Hornblower Yacht\, 1800 North Harbor Drive\, San Diego\, CA\, United States
CATEGORIES:San Diego
END:VEVENT
BEGIN:VEVENT
DTSTART;TZID=America/Los_Angeles:20251208T180000
DTEND;TZID=America/Los_Angeles:20251208T210000
DTSTAMP:20260425T041235
CREATED:20251016T170913Z
LAST-MODIFIED:20251029T173939Z
UID:17534-1765216800-1765227600@bigtable.org
SUMMARY:Table 54
DESCRIPTION:Nashville's restaurants turn up the volume every year for one week in February\, offering seven days of prix fixe menus for brunch\, lunch and/or dinner to highlight Music City’s all-encompassing food and beverage scene. Restaurant Week reservations\, menus\, and discount offerings will be available in mid-February. \nCare for restaurant workers in crisis by rounding up during Dine Nashville Restaurant Week for Big Table and Giving Kitchen. \n\n	\n\n\n	\n		\n			\n							LEARN MORE
URL:https://bigtable.org/event/cos-t54-2025/
LOCATION:Ivywild School\, 1604 S. Cascade Ave.\, Colorado Springs\, CO\, 80905\, United States
CATEGORIES:Colorado Springs
END:VEVENT
BEGIN:VEVENT
DTSTART;TZID=America/Los_Angeles:20260205T173000
DTEND;TZID=America/Los_Angeles:20260205T200000
DTSTAMP:20260425T041235
CREATED:20260108T234119Z
LAST-MODIFIED:20260129T214515Z
UID:17957-1770312600-1770321600@bigtable.org
SUMMARY:First Bite | Special Menu Preview Event
DESCRIPTION:Nashville's restaurants turn up the volume every year for one week in February\, offering seven days of prix fixe menus for brunch\, lunch and/or dinner to highlight Music City’s all-encompassing food and beverage scene. Restaurant Week reservations\, menus\, and discount offerings will be available in mid-February. \nCare for restaurant workers in crisis by rounding up during Dine Nashville Restaurant Week for Big Table and Giving Kitchen. \n\n	\n\n\n	\n		\n			\n							LEARN MORE
URL:https://bigtable.org/event/first-bite-special-menu-preview-event/
LOCATION:The Scale House Market\, 4422 E 8th Ave.\, Spokane Valley\, WA\, 99212\, United States
CATEGORIES:Spokane
ATTACH;FMTTYPE=image/jpeg:https://bigtable.org/wp-content/uploads/2026/01/IRW2026_FirstBite_EmailHeader-scaled.jpg
END:VEVENT
BEGIN:VEVENT
DTSTART;TZID=America/Los_Angeles:20260323T173000
DTEND;TZID=America/Los_Angeles:20260323T210000
DTSTAMP:20260425T041235
CREATED:20260227T193441Z
LAST-MODIFIED:20260227T210701Z
UID:18300-1774287000-1774299600@bigtable.org
SUMMARY:Nashville Table 54 2026
DESCRIPTION:Nashville's restaurants turn up the volume every year for one week in February\, offering seven days of prix fixe menus for brunch\, lunch and/or dinner to highlight Music City’s all-encompassing food and beverage scene. Restaurant Week reservations\, menus\, and discount offerings will be available in mid-February. \nCare for restaurant workers in crisis by rounding up during Dine Nashville Restaurant Week for Big Table and Giving Kitchen. \n\n	\n\n\n	\n		\n			\n							LEARN MORE
URL:https://bigtable.org/event/nashville-table-54-2026/
LOCATION:The Bell Tower\, 400 4TH AVENUE SOUTH\, Nashville\, TN\, 37201
CATEGORIES:Nashville
ATTACH;FMTTYPE=image/jpeg:https://bigtable.org/wp-content/uploads/2026/02/Email-Header-2025.jpg
END:VEVENT
BEGIN:VEVENT
DTSTART;TZID=America/Los_Angeles:20260420T180000
DTEND;TZID=America/Los_Angeles:20260420T210000
DTSTAMP:20260425T041235
CREATED:20260317T184519Z
LAST-MODIFIED:20260317T184608Z
UID:18404-1776708000-1776718800@bigtable.org
SUMMARY:Spokane Table 54 2026
DESCRIPTION:Nashville's restaurants turn up the volume every year for one week in February\, offering seven days of prix fixe menus for brunch\, lunch and/or dinner to highlight Music City’s all-encompassing food and beverage scene. Restaurant Week reservations\, menus\, and discount offerings will be available in mid-February. \nCare for restaurant workers in crisis by rounding up during Dine Nashville Restaurant Week for Big Table and Giving Kitchen. \n\n	\n\n\n	\n		\n			\n							LEARN MORE
URL:https://bigtable.org/event/spokane-table-54-2026/
LOCATION:The Historic Davenport\, 10 S Post Street\, Spokane\, WA\, 99201\, United States
CATEGORIES:Spokane
ATTACH;FMTTYPE=image/jpeg:https://bigtable.org/wp-content/uploads/2026/02/Email-Header-2025.jpg
END:VEVENT
BEGIN:VEVENT
DTSTART;TZID=America/Los_Angeles:20260531T170000
DTEND;TZID=America/Los_Angeles:20260531T200000
DTSTAMP:20260425T041235
CREATED:20260416T152616Z
LAST-MODIFIED:20260416T152616Z
UID:18607-1780246800-1780257600@bigtable.org
SUMMARY:Buffalo Trace Distillery Whiskey Tasting
DESCRIPTION:Nashville's restaurants turn up the volume every year for one week in February\, offering seven days of prix fixe menus for brunch\, lunch and/or dinner to highlight Music City’s all-encompassing food and beverage scene. Restaurant Week reservations\, menus\, and discount offerings will be available in mid-February. \nCare for restaurant workers in crisis by rounding up during Dine Nashville Restaurant Week for Big Table and Giving Kitchen. \n\n	\n\n\n	\n		\n			\n							LEARN MORE
URL:https://bigtable.org/event/buffalo-trace-distillery-whiskey-tasting/
LOCATION:Hogwash Whiskey Den\, 304 West Pacific Avenue\, Spokane\, Washington\, 99201
CATEGORIES:Spokane
ATTACH;FMTTYPE=image/png:https://bigtable.org/wp-content/uploads/2026/04/Hogwash-Benefit-Event.png
END:VEVENT
BEGIN:VEVENT
DTSTART;TZID=America/Los_Angeles:20260824T173000
DTEND;TZID=America/Los_Angeles:20260824T203000
DTSTAMP:20260425T041235
CREATED:20260415T174810Z
LAST-MODIFIED:20260415T175645Z
UID:18597-1787592600-1787603400@bigtable.org
SUMMARY:Eats Around the World Nashville
DESCRIPTION:Nashville's restaurants turn up the volume every year for one week in February\, offering seven days of prix fixe menus for brunch\, lunch and/or dinner to highlight Music City’s all-encompassing food and beverage scene. Restaurant Week reservations\, menus\, and discount offerings will be available in mid-February. \nCare for restaurant workers in crisis by rounding up during Dine Nashville Restaurant Week for Big Table and Giving Kitchen. \n\n	\n\n\n	\n		\n			\n							LEARN MORE
URL:https://bigtable.org/event/eats-around-the-world-nashville/
LOCATION:Franklin Marriott Cool Springs\, 700 Cool Springs Blvd.\, Franklin\, TN\, 37067\, United States
CATEGORIES:Nashville
ATTACH;FMTTYPE=image/jpeg:https://bigtable.org/wp-content/uploads/2025/07/NASH-EATW-Event-Page-Billboards-scaled.jpg
END:VEVENT
BEGIN:VEVENT
DTSTART;TZID=America/Los_Angeles:20261005T173000
DTEND;TZID=America/Los_Angeles:20261005T203000
DTSTAMP:20260425T041235
CREATED:20250714T205418Z
LAST-MODIFIED:20260415T174505Z
UID:16950-1791221400-1791232200@bigtable.org
SUMMARY:Eats Around the World Spokane
DESCRIPTION:Nashville's restaurants turn up the volume every year for one week in February\, offering seven days of prix fixe menus for brunch\, lunch and/or dinner to highlight Music City’s all-encompassing food and beverage scene. Restaurant Week reservations\, menus\, and discount offerings will be available in mid-February. \nCare for restaurant workers in crisis by rounding up during Dine Nashville Restaurant Week for Big Table and Giving Kitchen. \n\n	\n\n\n	\n		\n			\n							LEARN MORE
URL:https://bigtable.org/event/eats-around-the-world-spokane/
LOCATION:Davenport Grand Hotel\, 333 W Spokane Falls Blvd.\, Spokane\, WA\, 99201\, United States
CATEGORIES:Spokane
ATTACH;FMTTYPE=image/jpeg:https://bigtable.org/wp-content/uploads/2025/07/SPO-EATW-Event-Page-Billboard-1-scaled.jpg
END:VEVENT
END:VCALENDAR