BEGIN:VCALENDAR
VERSION:2.0
PRODID:-//Big Table - ECPv6.15.20//NONSGML v1.0//EN
CALSCALE:GREGORIAN
METHOD:PUBLISH
X-ORIGINAL-URL:https://bigtable.org
X-WR-CALDESC:Events for Big Table
REFRESH-INTERVAL;VALUE=DURATION:PT1H
X-Robots-Tag:noindex
X-PUBLISHED-TTL:PT1H
BEGIN:VTIMEZONE
TZID:America/Los_Angeles
BEGIN:DAYLIGHT
TZOFFSETFROM:-0800
TZOFFSETTO:-0700
TZNAME:PDT
DTSTART:20250309T100000
END:DAYLIGHT
BEGIN:STANDARD
TZOFFSETFROM:-0700
TZOFFSETTO:-0800
TZNAME:PST
DTSTART:20251102T090000
END:STANDARD
BEGIN:DAYLIGHT
TZOFFSETFROM:-0800
TZOFFSETTO:-0700
TZNAME:PDT
DTSTART:20260308T100000
END:DAYLIGHT
BEGIN:STANDARD
TZOFFSETFROM:-0700
TZOFFSETTO:-0800
TZNAME:PST
DTSTART:20261101T090000
END:STANDARD
BEGIN:DAYLIGHT
TZOFFSETFROM:-0800
TZOFFSETTO:-0700
TZNAME:PDT
DTSTART:20270314T100000
END:DAYLIGHT
BEGIN:STANDARD
TZOFFSETFROM:-0700
TZOFFSETTO:-0800
TZNAME:PST
DTSTART:20271107T090000
END:STANDARD
END:VTIMEZONE
BEGIN:VEVENT
DTSTART;TZID=America/Los_Angeles:20260205T173000
DTEND;TZID=America/Los_Angeles:20260205T200000
DTSTAMP:20260424T140703
CREATED:20260108T234119Z
LAST-MODIFIED:20260129T214515Z
UID:17957-1770312600-1770321600@bigtable.org
SUMMARY:First Bite | Special Menu Preview Event
DESCRIPTION:Nashville's restaurants turn up the volume every year for one week in February\, offering seven days of prix fixe menus for brunch\, lunch and/or dinner to highlight Music City’s all-encompassing food and beverage scene. Restaurant Week reservations\, menus\, and discount offerings will be available in mid-February. \nCare for restaurant workers in crisis by rounding up during Dine Nashville Restaurant Week for Big Table and Giving Kitchen. \n\n	\n\n\n	\n		\n			\n							LEARN MORE
URL:https://bigtable.org/event/first-bite-special-menu-preview-event/
LOCATION:The Scale House Market\, 4422 E 8th Ave.\, Spokane Valley\, WA\, 99212\, United States
CATEGORIES:Spokane
ATTACH;FMTTYPE=image/jpeg:https://bigtable.org/wp-content/uploads/2026/01/IRW2026_FirstBite_EmailHeader-scaled.jpg
END:VEVENT
END:VCALENDAR